BEGIN:VCALENDAR
VERSION:2.0
PRODID:-//Gesundes Willendorf - ECPv6.15.20//NONSGML v1.0//EN
CALSCALE:GREGORIAN
METHOD:PUBLISH
X-WR-CALNAME:Gesundes Willendorf
X-ORIGINAL-URL:https://gesundes.willendorf.at
X-WR-CALDESC:Veranstaltungen für Gesundes Willendorf
REFRESH-INTERVAL;VALUE=DURATION:PT1H
X-Robots-Tag:noindex
X-PUBLISHED-TTL:PT1H
BEGIN:VTIMEZONE
TZID:Europe/Vienna
BEGIN:DAYLIGHT
TZOFFSETFROM:+0100
TZOFFSETTO:+0200
TZNAME:CEST
DTSTART:20250330T010000
END:DAYLIGHT
BEGIN:STANDARD
TZOFFSETFROM:+0200
TZOFFSETTO:+0100
TZNAME:CET
DTSTART:20251026T010000
END:STANDARD
BEGIN:DAYLIGHT
TZOFFSETFROM:+0100
TZOFFSETTO:+0200
TZNAME:CEST
DTSTART:20260329T010000
END:DAYLIGHT
BEGIN:STANDARD
TZOFFSETFROM:+0200
TZOFFSETTO:+0100
TZNAME:CET
DTSTART:20261025T010000
END:STANDARD
BEGIN:DAYLIGHT
TZOFFSETFROM:+0100
TZOFFSETTO:+0200
TZNAME:CEST
DTSTART:20270328T010000
END:DAYLIGHT
BEGIN:STANDARD
TZOFFSETFROM:+0200
TZOFFSETTO:+0100
TZNAME:CET
DTSTART:20271031T010000
END:STANDARD
END:VTIMEZONE
BEGIN:VEVENT
DTSTART;TZID=Europe/Vienna:20260429T190000
DTEND;TZID=Europe/Vienna:20260429T210000
DTSTAMP:20260421T075337
CREATED:20260320T153753Z
LAST-MODIFIED:20260320T160031Z
UID:1811-1777489200-1777496400@gesundes.willendorf.at
SUMMARY:Workshop: Die Genuss Formel
DESCRIPTION:Vortragende: Gabriele Handler\, MSc / \n„Food First“ – oder besser gesagt „Genuss first“  Denn Essen soll zu unserem Leben passen und nicht umgekehrt ist hier das Motto… \nUnkostenbeitrag:  € 5.–
URL:https://gesundes.willendorf.at/event/workshop-die-genuss-formel/
LOCATION:Gemeindeamt\, Puchberger Straße 36\, Willendorf\, NÖ\, 2732\, Österreich
ORGANIZER;CN="Arbeitskreis Gesunde Gemeinde":MAILTO:gesund@willendorf.at
END:VEVENT
BEGIN:VEVENT
DTSTART;TZID=Europe/Vienna:20261026T090000
DTEND;TZID=Europe/Vienna:20261026T170000
DTSTAMP:20260421T075337
CREATED:20260106T062632Z
LAST-MODIFIED:20260106T062923Z
UID:1780-1793005200-1793034000@gesundes.willendorf.at
SUMMARY:Wandertag am Nationalfeiertag
DESCRIPTION:Wir freuen uns Euch wieder beim Willendorfer Wandertag am Nationalfeiertag begrüßen zu dürfen. \nEs gibt wieder die drei Wanderstrecken ( Groß\, klein und gemütlich )
URL:https://gesundes.willendorf.at/event/wandertag-am-nationalfeiertag-2/
LOCATION:Gemeindeamt\, Puchberger Straße 36\, Willendorf\, NÖ\, 2732\, Österreich
CATEGORIES:Wandertag
ORGANIZER;CN="Arbeitskreis Gesunde Gemeinde":MAILTO:gesund@willendorf.at
END:VEVENT
END:VCALENDAR